BEGIN:VCALENDAR
VERSION:2.0
PRODID:-//Enchanted Lens Camera Club - ECPv6.15.20//NONSGML v1.0//EN
CALSCALE:GREGORIAN
METHOD:PUBLISH
X-ORIGINAL-URL:https://enchantedlens.org
X-WR-CALDESC:Events for Enchanted Lens Camera Club
REFRESH-INTERVAL;VALUE=DURATION:PT1H
X-Robots-Tag:noindex
X-PUBLISHED-TTL:PT1H
BEGIN:VTIMEZONE
TZID:America/Denver
BEGIN:DAYLIGHT
TZOFFSETFROM:-0700
TZOFFSETTO:-0600
TZNAME:MDT
DTSTART:20230312T090000
END:DAYLIGHT
BEGIN:STANDARD
TZOFFSETFROM:-0600
TZOFFSETTO:-0700
TZNAME:MST
DTSTART:20231105T080000
END:STANDARD
BEGIN:DAYLIGHT
TZOFFSETFROM:-0700
TZOFFSETTO:-0600
TZNAME:MDT
DTSTART:20240310T090000
END:DAYLIGHT
BEGIN:STANDARD
TZOFFSETFROM:-0600
TZOFFSETTO:-0700
TZNAME:MST
DTSTART:20241103T080000
END:STANDARD
BEGIN:DAYLIGHT
TZOFFSETFROM:-0700
TZOFFSETTO:-0600
TZNAME:MDT
DTSTART:20250309T090000
END:DAYLIGHT
BEGIN:STANDARD
TZOFFSETFROM:-0600
TZOFFSETTO:-0700
TZNAME:MST
DTSTART:20251102T080000
END:STANDARD
END:VTIMEZONE
BEGIN:VEVENT
DTSTART;TZID=America/Denver:20240201T190000
DTEND;TZID=America/Denver:20240201T210000
DTSTAMP:20260423T224358
CREATED:20231103T190933Z
LAST-MODIFIED:20231103T193629Z
UID:247458-1706814000-1706821200@enchantedlens.org
SUMMARY:Speaker's Meeting with Guest Speaker John Gilbert | Topic: Compositing | via Zoom
DESCRIPTION:
URL:https://enchantedlens.org/event/speakers-meeting-with-guest-speaker-john-gilbert-topic-compositing/
END:VEVENT
BEGIN:VEVENT
DTSTART;TZID=America/Denver:20240207T093000
DTEND;TZID=America/Denver:20240207T113000
DTSTAMP:20260423T224358
CREATED:20240119T184656Z
LAST-MODIFIED:20240119T184656Z
UID:247945-1707298200-1707305400@enchantedlens.org
SUMMARY:Marauders Outing to Zimmerman Library
DESCRIPTION:We are heading to the UNM Zimmerman Library at 9:30 am on Wednesday February 7th.  There are many interesting architectural\, woodwork\, lighting fixtures\, bookcases\, books\, furniture\, etc. in the library to photograph.  We will spend about an hour inside the library and then walk around the UNM Campus to do street photography.  At 11:30 am\, we will meet at the iconic “Frontier” for lunch. \nWe will meet Mel Ribas\, the Library’s Senior Operations Manager in the lobby of the library at 9:30.  Please be there for a brief welcome and rundown of where we can photograph and areas to avoid.  He will also check us in as a single group\, which is best for groups to enter the library to photograph\, make videos\, etc.  If you arrive later\, you will have to be checked in and fill out a form at the front desk before you can photograph. \nThanks in advance for making sure we do not disturb the library patrons during our visit.  The Zimmerman Library address is 1900 Roma Ave NE .  Zimmerman Library is located on the north side of Smith Plaza.
URL:https://enchantedlens.org/event/marauders-outing-to-zimmerman-library/
END:VEVENT
BEGIN:VEVENT
DTSTART;TZID=America/Denver:20240213T190000
DTEND;TZID=America/Denver:20240213T210000
DTSTAMP:20260423T224358
CREATED:20231103T195058Z
LAST-MODIFIED:20231103T195058Z
UID:247509-1707850800-1707858000@enchantedlens.org
SUMMARY:Mentorship: Focus on Post with Mike Stoy | via Zoom
DESCRIPTION:
URL:https://enchantedlens.org/event/mentorship-focus-on-post-with-mike-stoy-via-zoom-6/
END:VEVENT
BEGIN:VEVENT
DTSTART;TZID=America/Denver:20240215T190000
DTEND;TZID=America/Denver:20240215T210000
DTSTAMP:20260423T224358
CREATED:20231103T193519Z
LAST-MODIFIED:20240117T005516Z
UID:247480-1708023600-1708030800@enchantedlens.org
SUMMARY:Exhibition Judging and Photo Critique with Judge David Halpern | Topic: Compelling Light | via Zoom
DESCRIPTION:
URL:https://enchantedlens.org/event/exhibition-and-photo-critique-with-judge-ken-duckert-topic-rust-old-paint-via-zoom/
END:VEVENT
END:VCALENDAR