BEGIN:VCALENDAR
VERSION:2.0
PRODID:-//Enchanted Lens Camera Club - ECPv6.15.20//NONSGML v1.0//EN
CALSCALE:GREGORIAN
METHOD:PUBLISH
X-ORIGINAL-URL:https://enchantedlens.org
X-WR-CALDESC:Events for Enchanted Lens Camera Club
REFRESH-INTERVAL;VALUE=DURATION:PT1H
X-Robots-Tag:noindex
X-PUBLISHED-TTL:PT1H
BEGIN:VTIMEZONE
TZID:America/Denver
BEGIN:DAYLIGHT
TZOFFSETFROM:-0700
TZOFFSETTO:-0600
TZNAME:MDT
DTSTART:20230312T090000
END:DAYLIGHT
BEGIN:STANDARD
TZOFFSETFROM:-0600
TZOFFSETTO:-0700
TZNAME:MST
DTSTART:20231105T080000
END:STANDARD
BEGIN:DAYLIGHT
TZOFFSETFROM:-0700
TZOFFSETTO:-0600
TZNAME:MDT
DTSTART:20240310T090000
END:DAYLIGHT
BEGIN:STANDARD
TZOFFSETFROM:-0600
TZOFFSETTO:-0700
TZNAME:MST
DTSTART:20241103T080000
END:STANDARD
BEGIN:DAYLIGHT
TZOFFSETFROM:-0700
TZOFFSETTO:-0600
TZNAME:MDT
DTSTART:20250309T090000
END:DAYLIGHT
BEGIN:STANDARD
TZOFFSETFROM:-0600
TZOFFSETTO:-0700
TZNAME:MST
DTSTART:20251102T080000
END:STANDARD
END:VTIMEZONE
BEGIN:VEVENT
DTSTART;TZID=America/Denver:20240307T190000
DTEND;TZID=America/Denver:20240307T210000
DTSTAMP:20260423T145716
CREATED:20231103T191047Z
LAST-MODIFIED:20231103T191047Z
UID:247460-1709838000-1709845200@enchantedlens.org
SUMMARY:Speaker's Meeting with Guest Speaker Jim Nix | Topic: TBD
DESCRIPTION:
URL:https://enchantedlens.org/event/speakers-meeting-with-guest-speaker-jim-nix-topic-tbd/
END:VEVENT
BEGIN:VEVENT
DTSTART;TZID=America/Denver:20240309T113000
DTEND;TZID=America/Denver:20240309T133000
DTSTAMP:20260423T145716
CREATED:20240218T215803Z
LAST-MODIFIED:20240218T215803Z
UID:248049-1709983800-1709991000@enchantedlens.org
SUMMARY:Marauders Outing:  Native American Dancers at the Indian Pueblo Cultural Center
DESCRIPTION:On Saturday\, March 9th at 11:30 am\, we will be at the Indian Pueblo Cultural Center to photograph Native American Dancers. \nThe dancing starts at noon in the outdoor courtyard\, and  dancing continues till 1:00 pm. \nOptional lunch at about 1:30 within the facility\, at the Indian Pueblo Kitchen. \nNo flashes or tripods during the dancing please. \nAdminssion is $8 for Seniors (62+) and $10 for other adults\, and there is no extra charge to photograph the Dancers. \nGet your tickets at the facility – no need to pre-order online. \nA Flyer is on the ELCC Marauders Page \nContact Barry at 505 220-6301 if any questions
URL:https://enchantedlens.org/event/marauders-outing-native-american-dancers-at-the-indian-pueblo-cultural-center/
END:VEVENT
BEGIN:VEVENT
DTSTART;TZID=America/Denver:20240319T190000
DTEND;TZID=America/Denver:20240319T210000
DTSTAMP:20260423T145716
CREATED:20231103T195218Z
LAST-MODIFIED:20231103T195218Z
UID:247511-1710874800-1710882000@enchantedlens.org
SUMMARY:Mentorship: Focus on Post with Mike Stoy | via Zoom
DESCRIPTION:
URL:https://enchantedlens.org/event/mentorship-focus-on-post-with-mike-stoy-via-zoom-7/
END:VEVENT
BEGIN:VEVENT
DTSTART;TZID=America/Denver:20240321T190000
DTEND;TZID=America/Denver:20240321T210000
DTSTAMP:20260423T145716
CREATED:20231103T194101Z
LAST-MODIFIED:20240130T002524Z
UID:247496-1711047600-1711054800@enchantedlens.org
SUMMARY:Exhibition Judging and Photo Critique with Judge Nathan McCreery | Topic: Black and White  via Zoom
DESCRIPTION:
URL:https://enchantedlens.org/event/exhibition-and-photo-critique-with-judge-tbd/
END:VEVENT
BEGIN:VEVENT
DTSTART;TZID=America/Denver:20240328T190000
DTEND;TZID=America/Denver:20240328T210000
DTSTAMP:20260423T145716
CREATED:20231103T195912Z
LAST-MODIFIED:20231103T195912Z
UID:247517-1711652400-1711659600@enchantedlens.org
SUMMARY:Casual Critique with Mark Werner Host and Critiques by Emily Mount | via Zoom
DESCRIPTION:
URL:https://enchantedlens.org/event/casual-critique-with-mark-werner-host-and-critiques-by-emily-mount-via-zoom/
END:VEVENT
END:VCALENDAR