BEGIN:VCALENDAR
VERSION:2.0
PRODID:-//Enchanted Lens Camera Club - ECPv6.15.20//NONSGML v1.0//EN
CALSCALE:GREGORIAN
METHOD:PUBLISH
X-WR-CALNAME:Enchanted Lens Camera Club
X-ORIGINAL-URL:https://enchantedlens.org
X-WR-CALDESC:Events for Enchanted Lens Camera Club
REFRESH-INTERVAL;VALUE=DURATION:PT1H
X-Robots-Tag:noindex
X-PUBLISHED-TTL:PT1H
BEGIN:VTIMEZONE
TZID:America/Denver
BEGIN:DAYLIGHT
TZOFFSETFROM:-0700
TZOFFSETTO:-0600
TZNAME:MDT
DTSTART:20240310T090000
END:DAYLIGHT
BEGIN:STANDARD
TZOFFSETFROM:-0600
TZOFFSETTO:-0700
TZNAME:MST
DTSTART:20241103T080000
END:STANDARD
BEGIN:DAYLIGHT
TZOFFSETFROM:-0700
TZOFFSETTO:-0600
TZNAME:MDT
DTSTART:20250309T090000
END:DAYLIGHT
BEGIN:STANDARD
TZOFFSETFROM:-0600
TZOFFSETTO:-0700
TZNAME:MST
DTSTART:20251102T080000
END:STANDARD
BEGIN:DAYLIGHT
TZOFFSETFROM:-0700
TZOFFSETTO:-0600
TZNAME:MDT
DTSTART:20260308T090000
END:DAYLIGHT
BEGIN:STANDARD
TZOFFSETFROM:-0600
TZOFFSETTO:-0700
TZNAME:MST
DTSTART:20261101T080000
END:STANDARD
END:VTIMEZONE
BEGIN:VEVENT
DTSTART;TZID=America/Denver:20251101T140000
DTEND;TZID=America/Denver:20251101T160000
DTSTAMP:20260421T134735
CREATED:20250830T183526Z
LAST-MODIFIED:20251023T000232Z
UID:249989-1762005600-1762012800@enchantedlens.org
SUMMARY:Speaker for November - Jerad Armijo
DESCRIPTION:Hi – Pablo here.  We look forward to seeing you in person ! \nDate: November 1st (Saturday) \nWhere:  St. Mark’s Episcopal Church\,  431 Richmond Pl NE\, Albuquerque\, NM 87106 \nTime:  2:00-4:00 PM \nSpeaker: Jerad Armijo (Live) \nTalk: Evolution VS Synesthesia
URL:https://enchantedlens.org/event/speaker-for-november-jerad-armijo/
LOCATION:St Mark’s Episcopal Church\, 431 Richmond Place NE\, Albuquerque\, NM\, 87106\, United States
END:VEVENT
BEGIN:VEVENT
DTSTART;TZID=America/Denver:20251105T090000
DTEND;TZID=America/Denver:20251105T110000
DTSTAMP:20260421T134735
CREATED:20250923T230115Z
LAST-MODIFIED:20251102T161925Z
UID:250109-1762333200-1762340400@enchantedlens.org
SUMMARY:Updated!  Marauder Outing to the Paseo del Bosque Trail: Alameda Trailhead
DESCRIPTION:Revised date due to Fall Colors:  Now Wednesday November 5th (9:00 am – 11:00 am) The Paseo del Bosque Trail: Alameda Trailhead west of Rio Grande Blvd\, on Alameda –  Photograph the Bosque during the Fall colors.  Lunch at Wecks at 11:15 am at 10131 Coors Blvd NW\, Albuquerque\, NM 87114.
URL:https://enchantedlens.org/event/marauder-outing-to-the-paseo-del-bosque-trail-alameda-trailhead/
END:VEVENT
BEGIN:VEVENT
DTSTART;TZID=America/Denver:20251120T190000
DTEND;TZID=America/Denver:20251120T210000
DTSTAMP:20260421T134735
CREATED:20250909T200154Z
LAST-MODIFIED:20250909T200154Z
UID:250037-1763665200-1763672400@enchantedlens.org
SUMMARY:Exhibition and Judging with Rad Drew via Zoom - Cell Phone Photography
DESCRIPTION:Members may submit two images following instructions in the Exhibition menu of the website. Submissions are due by 10PM of the first Wednesday of the month. The Zoom link for the exhibition will be emailed to members a couple of days before the event.
URL:https://enchantedlens.org/event/exhibition-and-judging-with-rad-drew-via-zoom-cell-phone-photography/
END:VEVENT
BEGIN:VEVENT
DTSTART;TZID=America/Denver:20251123T090000
DTEND;TZID=America/Denver:20251123T110000
DTSTAMP:20260421T134735
CREATED:20251016T190716Z
LAST-MODIFIED:20251023T000101Z
UID:250162-1763888400-1763895600@enchantedlens.org
SUMMARY:Marauders Outing  - Downtown Albuquerque (Architectural Photo Shoot)
DESCRIPTION:Sunday\, November 23rd.  (9:00 am – 11:00)  Architectural Photo Shoot led by Mike McGovern. Meet at Lindy’s  (500 Central Ave SW #3114\, Abq.\, 87102) at 9:00 AM\, walk north along 5th Ave  past City Hall and the Petroleum Building\, east to the ABQ Convention Center and then south down 2nd Ave to Central and return to Lindy’s for brunch at 11:00 am.  Metered street parking is free on Sunday’s \n  \n 
URL:https://enchantedlens.org/event/marauders-outing-downtown-albuquerque-architectural-photo-shoot/
END:VEVENT
END:VCALENDAR